Workbook

Sheet Sheet1
A1: Údaje o množstve vyzbieraných a dotriedených odpadov z obalov a odpadov z neobalových výrobkov z komunálneho odpadu
A2: Subjekt vykonávajúci triedený zber odpadov z obalov a neobalových výrobkov podľa § 59 ods. 4 zákona*: Združenie Biela Orava pre všestranný rozvoj obcí regiónu BIELA ORAVA
A3: Zmluvná organizácia zodpovednosti výrobcov*: NATURPACK
A5: Hmotnosť odpadov z obalov a odpadov z neobalových výrobkov z komunálneho odpadu
A7: Názov obce | B7: IČO obce | C7: Papier (20 01 01) | D7: Sklo (20 01 02) | E7: Kompozity na báze lepenky (20 01 03) | F7: Plasty (20 01 39) | G7: Kovy (20 01 04) | H7: Drevo (20 01 38) | I7: Spolu
C10: Hmotnosť vyzbieraných odpadov [t]
A11: Babín | B11: 00314382 | C11: 0.38 | D11: 8.28 | E11: 0.727 | F11: 8.532 | G11: 0.091 | H11: 0 | I11: =SUM(C11:H11) -> 18.01
A12: Beňadovo | B12: 00314391 | C12: 2.05 | D12: 4.8 | E12: 0.402 | F12: 4.568 | G12: 0.05 | H12: 0 | I12: =SUM(C12:H12) -> 11.87
A13: Bobrov | B13: 00314404 | C13: 11.265 | D13: 10.41 | E13: 0.876 | F13: 10.152 | G13: 0.11 | H13: 0 | I13: =SUM(C13:H13) -> 32.813
A14: Breza | B14: 00314412 | C14: 4.38 | D14: 6.6 | E14: 0.863 | F14: 9.828 | G14: 0.108 | H14: 0 | I14: =SUM(C14:H14) -> 21.779
A15: Hruštín | B15: 00314501 | C15: 4.15 | D15: 18.255 | E15: 1.194 | F15: 13.818 | G15: 0.15 | H15: 0 | I15: =SUM(C15:H15) -> 37.567
A16: Klin | B16: 00314544 | C16: 9.405 | D16: 13.175 | E16: 1.182 | F16: 13.992 | G16: 0.148 | H16: 0 | I16: =SUM(C16:H16) -> 37.902
A17: Klubina | B17: 00314056 | C17: 0.835 | D17: 4.4 | E17: 0.287 | F17: 3.267 | G17: 0.036 | H17: 0 | I17: =SUM(C17:H17) -> 8.825
A18: Krušetnica | B18: 00314595 | C18: 2.18 | D18: 5.595 | E18: 0.505 | F18: 5.861 | G18: 0.064 | H18: 0 | I18: =SUM(C18:H18) -> 14.205
A19: Lokca | B19: 00314625 | C19: 17.55 | D19: 13.62 | E19: 1.118 | F19: 12.929 | G19: 0.14 | H19: 2.3 | I19: =SUM(C19:H19) -> 47.657
A20: Lomná | B20: 00314633 | C20: 1.15 | D20: 5.68 | E20: 0.333 | F20: 3.786 | G20: 0.042 | H20: 0 | I20: =SUM(C20:H20) -> 10.991
A21: Mútne | B21: 00314668 | C21: 3.43 | D21: 15.705 | E21: 1.048 | F21: 11.921 | G21: 0.131 | H21: 0 | I21: =SUM(C21:H21) -> 32.235
A22: Novoť | B22: 00314692 | C22: 8.66 | D22: 20.16 | E22: 1.674 | F22: 19.321 | G22: 0.209 | H22: 1.6 | I22: =SUM(C22:H22) -> 51.624
... A35: Zubrohlava | B35: 00315044 | C35: 6.57 | D35: 10.6 | E35: 1.219 | F35: 14.19 | G35: 0.152 | H35: 4.5 | I35: =SUM(C35:H35) -> 37.231
C36: =SUM(C11:C35) -> 133.93 | D36: =SUM(D11:D35) -> 320.21 | E36: =SUM(E11:E35) -> 26.539 | F36: =SUM(F11:F35) -> 306.225 | G36: =SUM(G11:G35) -> 3.32 | H36: =SUM(H11:H35) -> 20.51 | I36: =SUM(I11:I35) -> 810.734
A38: Hmotnosť odpadov z obalov a odpadov z neobalových výrobkov z komunálneho odpadu
A39: Názov obce | B39: IČO obce | C39: Sklo (20 01 02) | D39: Plasty (20 01 39) | E39: Papier (20 01 01) | F39: Kompozity na báze lepenky (20 01 03) | G39: Kovy (20 01 04) | H39: Drevo (20 01 38) | I39: Spolu
C42: Hmotnosť dotriedených odpadov [t]
A43: Babín | B43: 00314382 | C43: 7.745 | D43: 6.472 | E43: 4.953 | F43: 0.384 | G43: 0.015 | H43: 0.72 | I43: =SUM(C43:H43) -> 20.289
A44: Beňadovo | B44: 00314391 | C44: 4.76 | D44: 3.967 | E44: 3.039 | F44: 0.235 | G44: 0.008 | H44: 0.45 | I44: =SUM(C44:H44) -> 12.459
A45: Bobrov | B45: 00314404 | C45: 9.98 | D45: 8.313 | E45: 6.366 | F45: 0.492 | G45: 0.017 | H45: 0.93 | I45: =SUM(C45:H45) -> 26.098
A46: Breza | B46: 00314412 | C46: 8.76 | D46: 7.297 | E46: 5.587 | F46: 0.432 | G46: 0.015 | H46: 0.82 | I46: =SUM(C46:H46) -> 22.911
A47: Hruštín | B47: 00314501 | C47: 16.8 | D47: 13.999 | E47: 10.721 | F47: 0.829 | G47: 0.028 | H47: 1.57 | I47: =SUM(C47:H47) -> 43.947
A48: Klin | B48: 00314544 | C48: 13.24 | D48: 11.03 | E48: 8.447 | F48: 0.653 | G48: 0.022 | H48: 1.24 | I48: =SUM(C48:H48) -> 34.632
A49: Klubina | B49: 00315044 | C49: 5.24 | D49: 4.363 | E49: 3.341 | F49: 0.258 | G49: 0.009 | H49: 0.49 | I49: =SUM(C49:H49) -> 13.701
A50: Krušetnica | B50: 00314056 | C50: 12.83 | D50: 10.692 | E50: 8.189 | F50: 0.633 | G50: 0.022 | H50: 1.2 | I50: =SUM(C50:H50) -> 33.566
A51: Lokca | B51: 00314595 | C51: 5.03 | D51: 4.192 | E51: 3.21 | F51: 0.248 | G51: 0.008 | H51: 0.47 | I51: =SUM(C51:H51) -> 13.158
A52: Lomná | B52: 00314625 | C52: 16.4 | D52: 13.668 | E52: 10.466 | F52: 0.809 | G52: 0.028 | H52: 1.54 | I52: =SUM(C52:H52) -> 42.911
A53: Mútne | B53: 00314633 | C53: 19.76 | D53: 16.644 | E53: 12.61 | F53: 0.975 | G53: 0.033 | H53: 1.85 | I53: =SUM(C53:H53) -> 51.872
A54: Novoť | B54: 00314668 | C54: 10.19 | D54: 8.487 | E54: 6.499 | F54: 0.502 | G54: 0.017 | H54: 0.95 | I54: =SUM(C54:H54) -> 26.645
... A67: Zubrohlava | B67: 00314145 | C67: 2.95 | D67: 2.457 | E67: 1.882 | F67: 0.145 | G67: 0.005 | H67: 0.28 | I67: =SUM(C67:H67) -> 7.719
C68: =SUM(C43:C67) -> 313.295 | D68: =SUM(D43:D67) -> 261.41 | E68: =SUM(E43:E67) -> 199.915 | F68: =SUM(F43:F67) -> 15.453 | G68: =SUM(G43:G67) -> 0.529 | H68: =SUM(H43:H67) -> 29.749 | I68: =SUM(I43:I67) -> 820.351
A70: Náklady na zber odpadov z obalov a odpadov z neobalových výrobkov z komunálneho odpadu
A72: Názov obce | B72: IČO obce | C72: Sklo (20 01 02) | D72: Plasty (20 01 39) | E72: Papier (20 01 01) | F72: Kompozity na báze lepenky (20 01 03) | G72: Kovy (20 01 04) | H72: Drevo (20 01 38) | I72: Spolu
C75: Celkové náklady na zber
...

Sheet Sheet2
A1: Predaj odpadov z obalov a odpadov z neobalových výrobkov z komunálneho odpadu – RECYKLÁCIA
A3: Materiál | B3: Výnos z predaja odpadu prvému zariadeniu na zhodnocovanie odpadov činnosťou – RECYKLÁCIA | D3: Náklad na odovzdanie odpadu prvému zariadeniu na zhodnocovanie odpadov činnosťou – RECYKLÁCIA
B4: Hmotnosť [t] | C4: Výnos [eur] | D4: Hmotnosť [t] | E4: Náklad [eur]
A5: Sklo (20 01 02) | B5: =Sheet1!D36 -> 320.21 | C5: =B5*16.9 -> 5411.549
A6: Plasty (20 01 39) | B6: =Sheet1!F36*0.35 -> 107.17875 | C6: =B6*10 -> 1071.7875
A7: - LDPE
A8: - HDPE
A9: - PET
A10: - PS
A11: - PP
A12: - PE
A13: - EPS
A14: - ostatné plasty
A15: Papier (20 01 01) | B15: =Sheet1!C36 -> 133.93 | C15: =B15*25 -> 3348.25
A16: - papier
A17: - kartón a lepenka
A18: Kompozity na báze lepenky (20 01 03) | D18: =Sheet1!E36 -> 26.539 | E18: =D18*50 -> 1326.95
A19: Obaly zo železných kovov (20 01 04) | B19: =Sheet1!G36 -> 3.32 | C19: =100*B19 -> 332
A20: Obaly z hliníka (20 01 04)
A21: Drevo (20 01 38) | D21: =Sheet1!H36 -> 20.51 | E21: =D21*30 -> 615.3
A22: Ostatné kompozitné obaly

Sheet Sheet3
A1: Predaj odpadov z obalov a odpadov z neobalových výrobkov z komunálneho odpadu – ENERGETICKÉ ZHODNOTENIE (R1)
A3: Materiál | B3: Výnos z predaja odpadu prvému zariadeniu na zhodnocovanie odpadov činnosťou - ENERGETICKÉ ZHODNOTENIE (R1) | D3: Náklad na odovzdanie zodpadu prvému zariadeniu na zhodnocovanie odpadov činnosťou - ENERGETICKÉ ZHODNOTENIE (R1)
B4: Hmotnosť [t] | C4: Výnos [eur] | D4: Hmotnosť [t] | E4: Náklad [eur]
A5: Sklo (20 01 02)
A6: Plasty (20 01 39) | D6: 160.55 | E6: =D6*143 -> 22958.65
A7: - LDPE
A8: - HDPE
A9: - PET
A10: - PS
A11: - PP
A12: - PE
A13: - EPS
A14: - ostatné plasty
A15: Papier (20 01 01)
A16: - papier
A17: - kartón a lepenka
A18: Kompozity na báze lepenky (20 01 03)
... A22: Ostatné kompozitné obaly

Sheet Sheet4
A1: Predaj odpadov z obalov a odpadov z neobalových výrobkov z komunálneho odpadu – ZHODNOTENIE R2 - R11 okrem recyklácie
A3: Materiál | B3: Výnos z predaja odpadu prvému zariadeniu na zhodnocovanie odpadov činnosťou – ZHODNOTENIE R2-R11 okrem recyklácie | D3: Náklad na odovzdanie odpadu prvému zariadeniu na zhodnocovanie odpadov činnosťou – ZHODNOTENIE R2-R11 okrem recyklácie
B4: Hmotnosť [t] | C4: Výnos [eur] | D4: Hmotnosť [t] | E4: Náklad [eur]
A5: Sklo (20 01 02)
A6: Plasty (20 01 39) | D6: 26.14 | E6: =D6*165 -> 4313.1
A7: - LDPE
A8: - HDPE
A9: - PET
A10: - PS
A11: - PP
A12: - PE
A13: - EPS
A14: - ostatné plasty
A15: Papier (20 01 01)
A16: - papier
A17: - kartón a lepenka
A18: Kompozity na báze lepenky (20 01 03)
... A25: Činnosti zahrnuté v rámci zabezpečenia zhodnotenia/recyklácie odpadov z obalov a odpadov z neobalových výrobkov
A26: ZHODNOTENIE/RECYKLÁCIA | B26: Náklady na zhodnotenie/recykláciu (napr. náklady na energetické zhodnotenie, náklady na recykláciu kompozitov na báze lepenky)
B28: Výnosy z predaja materiálu
B29: Ďalšie náklady súvisiace s predajom/zhodnotením/recykláciou materiálu (napr. nakládka/vykládka, doprava)
A31: LDPE (fólia) – druhy fólií vyrobené z mäkkého polyetylénu (číre, farebné).
A32: HDPE (tuhý plast) – odpady z tuhého polyetylénu, najmä bandasky, obaly domácej chémie (saponáty), destilovaná voda, a podobne.
A33: PET – odpady z polyetyléntereftalátu.
A34: PS – odpady z polystyrénu (okrem EPS, XPS).
A35: PP – odpady vyrobené z polypropylénu (fólie, tuhý plast, vedierka, fľaše, dózy, a pod.).
A36: PE (polyetylén) – odpady vyrobené z polyetylénu (okrem LDPE a HDPE).
A37: EPS – odpady vyrobené z expandovaného polystyrénu (EPS).
A38: Ostatné plasty – plastové odpady okrem vyššie uvedených skupín a odpady vyrobené z komplexných plastov
A39: (výrobky vyrobené z viacerých typov vzájomne neoddeliteľných plastov).
A40: Ostatné kompozitné obaly – kompozitné obaly s prevahou materiálu iného ako lepenka.
A41: Drevo – drevené obaly, okrem drevených paliet.
A42: Bunky označené šedou farbou sa nevypĺňajú.
